BEGIN:VCALENDAR
VERSION:2.0
PRODID:-//ジョインスター - ECPv6.15.20//NONSGML v1.0//EN
CALSCALE:GREGORIAN
METHOD:PUBLISH
X-ORIGINAL-URL:https://joynstar.com
X-WR-CALDESC:Events for ジョインスター
REFRESH-INTERVAL;VALUE=DURATION:PT1H
X-Robots-Tag:noindex
X-PUBLISHED-TTL:PT1H
BEGIN:VTIMEZONE
TZID:Asia/Tokyo
BEGIN:STANDARD
TZOFFSETFROM:+0900
TZOFFSETTO:+0900
TZNAME:JST
DTSTART:20250101T000000
END:STANDARD
END:VTIMEZONE
BEGIN:VEVENT
DTSTART;VALUE=DATE:20260323
DTEND;VALUE=DATE:20260404
DTSTAMP:20260423T204954
CREATED:20260127T040117Z
LAST-MODIFIED:20260316T084109Z
UID:13114-1774224000-1775260799@joynstar.com
SUMMARY:ジョインスタースプリングスクール 2026
DESCRIPTION:ジョインスターでは3月27日-3月31日(1週間)にスプリングスクーを開催します！ 普段とは違って、1日中英語で過ごしながら楽しむ、スペシャルなプログラムをお子様に体験してもらいます。 								\n				\n				\n				\n					スプリングスクール概要				\n				\n				\n				\n																														\n				\n				\n				\n									スプリングスクールでは、テーマに関連したさまざまなトピックを取り扱います。そしてスプリングスクール限定のアクティビティを通して フォニックス、スピーキング、リーディング、ライティング学びます。アクティビティによっては、年齢別にグループに分かれて行います。そしてもちろん、みんなで全力で楽しめるプログラムを用意しているので、この夏の一番の思い出を作りましょう！ 								\n				\n				\n				\n					Week 1 「Mini beasts and Flowers」				\n				\n				\n				\n									今回のスプリングスクールのテーマは「Mini beasts and Flowers」です。春が近づくにつれて、私たちを取り巻くすべてのものが変化しています。木は葉を伸ばし、花は咲き、虫を見ることも多くなってきました。このスプリングスクールでは、ミニチュアビーストとフラワーの世界を冒険します。イモムシがどのように蝶になるか、種がどのように花になるかなど、英語を通して一緒に見ていきましょう！ 								\n				\n				\n				\n					スプリングスクール詳細				\n				\n				\n				\n									【開催時期】 3月27日-3月31日(1週間) 8:00-9:00 Early drop off (additional)9:00-9:30 Drop off9:30-10:00 Circle time10:00-10:30 Snack time10:30-12:00 Activity time (Arts & Crafts\, reading\, phonics)12:00-13:00 Lunchbreak13:00 Pick up13:00-13:30 Drop off13:30-14:00 Circle time14:00-15:30 Activity time (Arts & Crafts\, reading\, phonics)15:30-16:00 Snack time16:00-17:00 Free choice17:00 Pick up17:00-18:00 Late pick up (additional)【定員】 先着12名 【対象年齢】 4-7歳8-12歳※ 年齢によってグループ・コンテンツの難易度が分かれます。 【持ち物】 筆記用具水筒お弁当(午前のプログラムに参加される方のみ)スナック( スナックはこちらでご用意いたしますが、もし好きなスナックがある場合)着替え(ショートパンツ、Tシャツ、肌着など)おむつ(トレーニング中の場合)※ 持ち物にはお名前が入ったラベルを取り付けるようにお願いいたします。※ 冷蔵庫や電子レンジ等は使用することができませんのでご注意ください。 【スケジュール・料金】 								\n				\n				\n				\n					ジョインスター会員の参加費				\n				\n				\n				\n																														\n				\n				\n				\n					ゲストの参加費				\n				\n				\n				\n																														\n				\n				\n				\n									参加申込単位が1週間、1日からお選びいただけます。さらにその中でも、午前プラン(4h)、午後プラン(4h)、終日プラン(8h)からお選びいただけます。 \n※ スナック・ドリンクは参加費に含まれます。(持ち込みも可能) 								\n				\n				\n				\n					入会キャンペーン				\n				\n				\n				\n									ゲストの方でも、ジョインスターに入会予定の方は、会員料金でご案内させていただきます。スプリングスクール前の体験レッスン申込みで、入会キャンペーンを適用させていただきます。興味ある方はこちらから体験レッスンをお申込みください。 								\n				\n				\n				\n									\n					\n						\n									体験レッスン\n					\n					\n				\n								\n				\n				\n				\n					招待キャンペーン				\n				\n				\n				\n									ゲスト(ジョインスター会員ではない方)を招待していただいた方には、招待人数に応じて料金合計より割引させていただきます。 ゲスト1名招待 10% OFFゲスト2名招待 15% OFFゲスト3名招待 20% OFFまた、招待されたゲスト様は、料金合計より20%割引させていただきます。 ※ ゲストが1 week参加していただくことがキャンペーンの適用条件です。※ 入会キャンペーンが適用される場合、割引額が高くなる方を適用させていただきます。 								\n				\n				\n				\n					参加・お支払い方法				\n				\n				\n				\n									ページ下部にあるスプリングスクール申し込みフォームをご記入ください。 \nお支払い方法についてですが、ジョインスター会員様は、お月謝に加えてご請求させていただきます。 \nゲスト様は、申し込みフォームを記入していただいた後に、お支払いリンクをメールにてお送りさせていただきます。銀行振込またはクレジットカードでお支払い可能です。 								\n				\n				\n				\n					キャンセルポリシー				\n				\n				\n				\n																														\n				\n				\n				\n									※ スプリングスクール初日(3月27日)を起点とします。※ 体調不良等で欠席された場合、スプリングスクール内での振替は可能です。 予約決定後の取消しには、「取消手数料」が発生致します。 また、決済後の返金は、返金時に生ずる銀行又はクレジットカード等の「手数料」を差し引いかせて頂き、お客様の指定口座へ返金致します。 予めご了承くださいますよう、お願い申し上げます。 								\n				\n				\n				\n					注意事項				\n				\n				\n				\n									必ず以下の注意事項を読んだ上で参加申込みをしてください。 								\n				\n				\n				\n									参加キャンセル・変更・追加がある場合メール(info@joynstar.com)、LINEにてご連絡ください。 災害時の対応悪天候（大雪・台風・豪雨）等の場合は授業内容の変更や、臨時休校になることがあります。あらかじめご了承ください。 アレルギーに関してアレルギーがある場合は必ず申し込みフォームにご記入ください。アレルギーがあるにも関わらず、アレルギーに関する記入、事前の報告も無く、万が一お子様がアレルギー症状を発症した場合、当社は一切責任を負いかねます。 								\n				\n				\n				\n					申し込みフォーム
URL:https://joynstar.com/event/spring-school-2026/
LOCATION:ジョインスター / JoynStar\, Meguro City\, Senzoku\, 1-chōme−28−２ ジョインスター\, Tokyo\, 152-0012
CATEGORIES:洗足教室
ATTACH;FMTTYPE=image/png:https://joynstar.com/wp-content/uploads/2026/01/名称未設定のデザイン-3.png
END:VEVENT
END:VCALENDAR